BEGIN:VCALENDAR
VERSION:2.0
PRODID:-//Red Palmer - ECPv6.15.18//NONSGML v1.0//EN
CALSCALE:GREGORIAN
METHOD:PUBLISH
X-ORIGINAL-URL:https://redpalmer.net
X-WR-CALDESC:Eventos para Red Palmer
REFRESH-INTERVAL;VALUE=DURATION:PT1H
X-Robots-Tag:noindex
X-PUBLISHED-TTL:PT1H
BEGIN:VTIMEZONE
TZID:Europe/Madrid
BEGIN:DAYLIGHT
TZOFFSETFROM:+0100
TZOFFSETTO:+0200
TZNAME:CEST
DTSTART:20180325T010000
END:DAYLIGHT
BEGIN:STANDARD
TZOFFSETFROM:+0200
TZOFFSETTO:+0100
TZNAME:CET
DTSTART:20181028T010000
END:STANDARD
BEGIN:DAYLIGHT
TZOFFSETFROM:+0100
TZOFFSETTO:+0200
TZNAME:CEST
DTSTART:20190331T010000
END:DAYLIGHT
BEGIN:STANDARD
TZOFFSETFROM:+0200
TZOFFSETTO:+0100
TZNAME:CET
DTSTART:20191027T010000
END:STANDARD
BEGIN:DAYLIGHT
TZOFFSETFROM:+0100
TZOFFSETTO:+0200
TZNAME:CEST
DTSTART:20200329T010000
END:DAYLIGHT
BEGIN:STANDARD
TZOFFSETFROM:+0200
TZOFFSETTO:+0100
TZNAME:CET
DTSTART:20201025T010000
END:STANDARD
BEGIN:DAYLIGHT
TZOFFSETFROM:+0100
TZOFFSETTO:+0200
TZNAME:CEST
DTSTART:20210328T010000
END:DAYLIGHT
BEGIN:STANDARD
TZOFFSETFROM:+0200
TZOFFSETTO:+0100
TZNAME:CET
DTSTART:20211031T010000
END:STANDARD
END:VTIMEZONE
BEGIN:VEVENT
DTSTART;VALUE=DATE:20200603
DTEND;VALUE=DATE:20200606
DTSTAMP:20260421T104030
CREATED:20191211T065702Z
LAST-MODIFIED:20191211T065702Z
UID:5665-1591149600-1591322399@redpalmer.net
SUMMARY:III Congreso Argentina de Malezas
DESCRIPTION:
URL:https://redpalmer.net/evento/iii-congreso-argentina-de-malezas/
LOCATION:Argentina
END:VEVENT
BEGIN:VEVENT
DTSTART;VALUE=DATE:20191110
DTEND;VALUE=DATE:20191116
DTSTAMP:20260421T104030
CREATED:20190722T140910Z
LAST-MODIFIED:20190722T142516Z
UID:5479-1573347600-1573779599@redpalmer.net
SUMMARY:XIX International Plant Protection Congress – 2019
DESCRIPTION:
URL:https://redpalmer.net/evento/xix-international-plant-protection-congress-2019/
LOCATION:Hyderabad\, Hyderabad\, India
CATEGORIES:Congresos, simposios, grupos de trabajo, jornadas (intenacionales)
ATTACH;FMTTYPE=image/jpeg:https://redpalmer.net/wp-content/uploads/2018/05/iapps.jpg
END:VEVENT
BEGIN:VEVENT
DTSTART;VALUE=DATE:20191008
DTEND;VALUE=DATE:20191012
DTSTAMP:20260421T104030
CREATED:20190722T140001Z
LAST-MODIFIED:20190722T141000Z
UID:5469-1570500000-1570759199@redpalmer.net
SUMMARY:XVII Congreso SEMh
DESCRIPTION:
URL:https://redpalmer.net/evento/xvii-congreso-semh/
LOCATION:Vigo\, Vigo\, Pontevedra\, España
CATEGORIES:Congresos, simposios, grupos de trabajo, jornadas (nacionales)
END:VEVENT
BEGIN:VEVENT
DTSTART;VALUE=DATE:20190916
DTEND;VALUE=DATE:20190920
DTSTAMP:20260421T104030
CREATED:20190722T140604Z
LAST-MODIFIED:20190722T142316Z
UID:5475-1568599200-1568858399@redpalmer.net
SUMMARY:Advanced Workshop on Weed Mapping as a Tool in Plant Ecology and Weed Management
DESCRIPTION:
URL:https://redpalmer.net/evento/advanced-workshop-on-weed-mapping-as-a-tool-in-plant-ecology-and-weed-management/
LOCATION:Mediterranean Agronomic Institute of Chania (MAICH)\, Creta\, Grecia
CATEGORIES:Congresos, simposios, grupos de trabajo, jornadas (intenacionales)
ATTACH;FMTTYPE=image/jpeg:https://redpalmer.net/wp-content/uploads/2018/05/iapps.jpg
END:VEVENT
BEGIN:VEVENT
DTSTART;VALUE=DATE:20190704
DTEND;VALUE=DATE:20190708
DTSTAMP:20260421T104030
CREATED:20190722T140311Z
LAST-MODIFIED:20190722T141012Z
UID:5472-1562205600-1562464799@redpalmer.net
SUMMARY:Sustainable Integrated Weed Management and Herbicide Tolerant Varieties»
DESCRIPTION:Más información
URL:https://redpalmer.net/evento/sustainable-integrated-weed-management-and-herbicide-tolerant-varieties/
LOCATION:Thessaloniki\, Thessaloniki\, Grecia
CATEGORIES:Congresos, simposios, grupos de trabajo, jornadas (intenacionales)
ATTACH;FMTTYPE=image/jpeg:https://redpalmer.net/wp-content/uploads/2015/09/ewrs.jpg
END:VEVENT
END:VCALENDAR